BEGIN:VCALENDAR
VERSION:2.0
PRODID:spatie/icalendar-generator
NAME:Gemeinde Bolligen
X-WR-CALNAME:Gemeinde Bolligen
BEGIN:VTIMEZONE
TZID:Europe/Zurich
BEGIN:STANDARD
DTSTART:20251026T030000
TZOFFSETFROM:+0200
TZOFFSETTO:+0100
END:STANDARD
BEGIN:DAYLIGHT
DTSTART:20260329T010000
TZOFFSETFROM:+0100
TZOFFSETTO:+0200
END:DAYLIGHT
BEGIN:STANDARD
DTSTART:20261025T030000
TZOFFSETFROM:+0200
TZOFFSETTO:+0100
END:STANDARD
BEGIN:DAYLIGHT
DTSTART:20270328T010000
TZOFFSETFROM:+0100
TZOFFSETTO:+0200
END:DAYLIGHT
END:VTIMEZONE
BEGIN:VTIMEZONE
TZID:UTC
BEGIN:STANDARD
DTSTART:20250724T131413
TZOFFSETFROM:+0000
TZOFFSETTO:+0000
END:STANDARD
END:VTIMEZONE
BEGIN:VEVENT
UID:69e626a54a106
DTSTAMP:20260420T131413Z
SUMMARY:Altmetalle
DESCRIPTION: 
URL:https://m.bolligen.ch/index.php?apid=5058568
DTSTART;TZID=Europe/Zurich:20260527T060000
DTEND;TZID=Europe/Zurich:20260527T063000
END:VEVENT
BEGIN:VEVENT
UID:69e626a54a171
DTSTAMP:20260420T131413Z
SUMMARY:Altmetalle
DESCRIPTION: 
URL:https://m.bolligen.ch/index.php?apid=5058568
DTSTART;TZID=Europe/Zurich:20260819T060000
DTEND;TZID=Europe/Zurich:20260819T063000
END:VEVENT
BEGIN:VEVENT
UID:69e626a54a17e
DTSTAMP:20260420T131413Z
SUMMARY:Altmetalle
DESCRIPTION: 
URL:https://m.bolligen.ch/index.php?apid=5058568
DTSTART;TZID=Europe/Zurich:20261125T060000
DTEND;TZID=Europe/Zurich:20261125T063000
END:VEVENT
END:VCALENDAR